BEGIN:VCALENDAR
VERSION:2.0
PRODID:-//Squarespace Inc/Squarespace 6//v6//EN
BEGIN:VEVENT
UID:59dec01064b05fcb66e23c07@squarespace.com
DTSTAMP:20171012T011207Z
DTSTART:20171013T230000Z
DTEND:20171112T030000Z
SUMMARY:Hide and Seek
END:VEVENT
END:VCALENDAR
