BEGIN:VCALENDAR
VERSION:2.0
PRODID:-//Squarespace Inc/Squarespace 6//v6//EN
BEGIN:VEVENT
UID:5a063da9ec212d113149aa8f@squarespace.com
DTSTAMP:20171112T021226Z
DTSTART:20171115T230000Z
DTEND:20171203T030000Z
SUMMARY:Weswal Gallery Stockroom Show 
END:VEVENT
END:VCALENDAR
