BEGIN:VCALENDAR
VERSION:2.0
PRODID:-//Squarespace Inc/Squarespace 6//v6//EN
BEGIN:VEVENT
UID:5a18bfea0d92971bbcb0fb8e@squarespace.com
DTSTAMP:20171201T034407Z
DTSTART:20171206T230000Z
DTEND:20180114T030000Z
SUMMARY:Christine Murphy & Peter Toth: Same But Different
END:VEVENT
END:VCALENDAR
