BEGIN:VCALENDAR
VERSION:2.0
PRODID:-//Squarespace Inc/Squarespace 6//v6//EN
BEGIN:VEVENT
UID:59f7e34f1095266e672744f0@squarespace.com
DTSTAMP:20171031T033529Z
DTSTART:20170713T000000Z
DTEND:20170903T040000Z
SUMMARY:Phil McCormack: The Binary Perspective
END:VEVENT
END:VCALENDAR
