BEGIN:VCALENDAR
VERSION:2.0
PRODID:-//Squarespace Inc/Squarespace 6//v6//EN
BEGIN:VEVENT
UID:59debed28a02c786614e4aa4@squarespace.com
DTSTAMP:20171012T011326Z
DTSTART:20170907T000000Z
DTEND:20171001T030000Z
SUMMARY:Gabrielle Collins: City & Bridge
END:VEVENT
END:VCALENDAR
