BEGIN:VCALENDAR
VERSION:2.0
PRODID:-//Squarespace Inc/Squarespace 6//v6//EN
BEGIN:VEVENT
UID:59debdfdf7e0ab47a080c5d7@squarespace.com
DTSTAMP:20171012T011225Z
DTSTART:20170907T000000Z
DTEND:20171001T030000Z
SUMMARY:Tim Allen: Fissure
END:VEVENT
END:VCALENDAR
