BEGIN:VCALENDAR
VERSION:2.0
PRODID:-//Squarespace Inc/Squarespace 6//v6//EN
BEGIN:VEVENT
UID:5a5972d9ec212dd50667da9a@squarespace.com
DTSTAMP:20180113T035641Z
DTSTART:20180124T230000Z
DTEND:20180304T030000Z
SUMMARY:Liz Priestley: Waterways and Wonderments
END:VEVENT
END:VCALENDAR
