BEGIN:VCALENDAR
VERSION:2.0
PRODID:-//Squarespace Inc/Squarespace 6//v6//EN
BEGIN:VEVENT
UID:5b9b0a854d7a9ccfbedd5a77@squarespace.com
DTSTAMP:20180914T012320Z
DTSTART:20181004T000000Z
DTEND:20181104T030000Z
SUMMARY:A Shared View
END:VEVENT
END:VCALENDAR
