BEGIN:VCALENDAR
VERSION:2.0
PRODID:-//Squarespace Inc/Squarespace 6//v6//EN
BEGIN:VEVENT
UID:5bc958221905f4c83e41ab7d@squarespace.com
DTSTAMP:20181019T040919Z
DTSTART:20181107T230000Z
DTEND:20181208T030000Z
SUMMARY:From Mountains to the Plains
GEO:-31.080806;150.942543
LOCATION:Weswal Gallery\, 192 Brisbane St\, East Tamworth\, NSW\, 2340\, Au
 stralia
END:VEVENT
END:VCALENDAR
