BEGIN:VCALENDAR
VERSION:2.0
PRODID:-//Squarespace Inc/Squarespace 6//v6//EN
BEGIN:VEVENT
UID:5c00b21d70a6adc0d18cfdb1@squarespace.com
DTSTAMP:20181220T045437Z
DTSTART:20181212T230000Z
DTEND:20181223T030000Z
SUMMARY:Stockroom Selection
END:VEVENT
END:VCALENDAR
