BEGIN:VCALENDAR
VERSION:2.0
PRODID:-//Squarespace Inc/Squarespace 6//v6//EN
BEGIN:VEVENT
UID:5a72767d652deac3c37a4e48@squarespace.com
DTSTAMP:20180201T031211Z
DTSTART:20180307T230000Z
DTEND:20180408T040000Z
SUMMARY:Anna Henderson: Artist's Story
END:VEVENT
END:VCALENDAR
