BEGIN:VCALENDAR
VERSION:2.0
PRODID:-//Squarespace Inc/Squarespace 6//v6//EN
BEGIN:VEVENT
UID:5a728128ec212d13b8b688f9@squarespace.com
DTSTAMP:20180209T045800Z
DTSTART:20180307T230000Z
DTEND:20180408T040000Z
SUMMARY:Rhett Brewer: Fluidity
END:VEVENT
END:VCALENDAR
