BEGIN:VCALENDAR
VERSION:2.0
PRODID:-//Squarespace Inc/Squarespace 6//v6//EN
BEGIN:VEVENT
UID:5a7bbcbd9140b78624a8b858@squarespace.com
DTSTAMP:20180426T025450Z
DTSTART:20180412T000000Z
DTEND:20180513T040000Z
SUMMARY:Elouise Roberts: Wandering New England
END:VEVENT
END:VCALENDAR
