BEGIN:VCALENDAR
VERSION:2.0
PRODID:-//Squarespace Inc/Squarespace 6//v6//EN
BEGIN:VEVENT
UID:5aab48822b6a28f6e2648625@squarespace.com
DTSTAMP:20180316T043356Z
DTSTART:20180412T000000Z
DTEND:20180513T060000Z
SUMMARY:Gwen Robson: Foliage
END:VEVENT
END:VCALENDAR
