BEGIN:VCALENDAR
VERSION:2.0
PRODID:-//Squarespace Inc/Squarespace 6//v6//EN
BEGIN:VEVENT
UID:5ad932d0f950b767530ce33b@squarespace.com
DTSTAMP:20180420T003803Z
DTSTART:20180517T000000Z
DTEND:20180617T040000Z
SUMMARY:Jelle Van Den Berg: Good Signs/Thick and Thin
END:VEVENT
END:VCALENDAR
