BEGIN:VCALENDAR
VERSION:2.0
PRODID:-//Squarespace Inc/Squarespace 6//v6//EN
BEGIN:VEVENT
UID:5ad807be758d464041d363c4@squarespace.com
DTSTAMP:20180419T031001Z
DTSTART:20180517T000000Z
DTEND:20180617T040000Z
SUMMARY:On Edge: Ceramics from Max Powell
END:VEVENT
END:VCALENDAR
