BEGIN:VCALENDAR
VERSION:2.0
PRODID:-//Squarespace Inc/Squarespace 6//v6//EN
BEGIN:VEVENT
UID:5b23142df950b7b70c77a43d@squarespace.com
DTSTAMP:20180615T012003Z
DTSTART:20180621T000000Z
DTEND:20180722T040000Z
SUMMARY:4 x 4 Printmakers
END:VEVENT
END:VCALENDAR
