BEGIN:VCALENDAR
VERSION:2.0
PRODID:-//Squarespace Inc/Squarespace 6//v6//EN
BEGIN:VEVENT
UID:5ad03065562fa7b8c903f780@squarespace.com
DTSTAMP:20180413T043603Z
DTSTART:20180621T000000Z
DTEND:20180722T040000Z
SUMMARY:Jack Massey Woodwork\, Bespoke Furniture
GEO:-31.080803;150.942529
LOCATION:Weswal Gallery\, 192 Brisbane Street\, East Tamworth\, NSW\, 2340\
 , Australia
END:VEVENT
END:VCALENDAR
