BEGIN:VCALENDAR
VERSION:2.0
PRODID:-//Squarespace Inc/Squarespace 6//v6//EN
BEGIN:VEVENT
UID:5aea5ef72b6a283a9f869c26@squarespace.com
DTSTAMP:20180503T010614Z
DTSTART:20180621T000000Z
DTEND:20180722T040000Z
SUMMARY:Paula Jenkins: Our Beautiful Land
END:VEVENT
END:VCALENDAR
