BEGIN:VCALENDAR
VERSION:2.0
PRODID:-//Squarespace Inc/Squarespace 6//v6//EN
BEGIN:VEVENT
UID:5b23146903ce64eefd1755c7@squarespace.com
DTSTAMP:20180615T013937Z
DTSTART:20180726T000000Z
DTEND:20180826T040000Z
SUMMARY:Michael Herron: quiet landmarks
END:VEVENT
END:VCALENDAR
