BEGIN:VCALENDAR
VERSION:2.0
PRODID:-//Squarespace Inc/Squarespace 6//v6//EN
BEGIN:VEVENT
UID:5b6b9e342b6a282d9d1b8a75@squarespace.com
DTSTAMP:20180809T015405Z
DTSTART:20180830T000000Z
DTEND:20180930T040000Z
SUMMARY:Jan Clark\, Fine Feathers
END:VEVENT
END:VCALENDAR
