BEGIN:VCALENDAR
VERSION:2.0
PRODID:-//Squarespace Inc/Squarespace 6//v6//EN
BEGIN:VEVENT
UID:5b6b911d575d1f1be4a8345d@squarespace.com
DTSTAMP:20180809T015136Z
DTSTART:20180830T000000Z
DTEND:20180930T040000Z
SUMMARY:Jane-Frances Tannock\, Moments of Stillness
END:VEVENT
END:VCALENDAR
