BEGIN:VCALENDAR
VERSION:2.0
PRODID:-//Squarespace Inc/Squarespace 6//v6//EN
BEGIN:VEVENT
UID:5c1b21a7f950b7068a979b36@squarespace.com
DTSTAMP:20190201T035219Z
DTSTART:20190116T230000Z
DTEND:20190224T030000Z
SUMMARY:Dennis Chapman: From the Earth
END:VEVENT
END:VCALENDAR
