BEGIN:VCALENDAR
VERSION:2.0
PRODID:-//Squarespace Inc/Squarespace 6//v6//EN
BEGIN:VEVENT
UID:5c09fb3cb8a0451eb918d991@squarespace.com
DTSTAMP:20190201T035209Z
DTSTART:20190116T230000Z
DTEND:20190224T030000Z
SUMMARY:Sam Beattie. Fixed: Paper and Plastic on Paper 
END:VEVENT
END:VCALENDAR
