BEGIN:VCALENDAR
VERSION:2.0
PRODID:-//Squarespace Inc/Squarespace 6//v6//EN
BEGIN:VEVENT
UID:5c5ce6c69b747a3d52785eb6@squarespace.com
DTSTAMP:20190222T003349Z
DTSTART:20190227T230000Z
DTEND:20190324T030000Z
SUMMARY:Three Perspectives\,  an Arts North West project
END:VEVENT
END:VCALENDAR
