BEGIN:VCALENDAR
VERSION:2.0
PRODID:-//Squarespace Inc/Squarespace 6//v6//EN
BEGIN:VEVENT
UID:59f3c4276c3194e6aaaf5ac0@squarespace.com
DTSTAMP:20171031T033501Z
DTSTART:20171115T230000Z
DTEND:20171217T030000Z
SUMMARY:Helen Gauchat: Shadow Play
GEO:-31.080963;150.942696
LOCATION:Weswal Gallery\, 192 Brisbane Street\, Tamworth NSW 2340\, Austral
 ia
END:VEVENT
END:VCALENDAR
