BEGIN:VCALENDAR
VERSION:2.0
PRODID:-//Squarespace Inc/Squarespace 6//v6//EN
BEGIN:VEVENT
UID:59f3e4b26c31940534267a08@squarespace.com
DTSTAMP:20171106T013929Z
DTSTART:20171122T070000Z
DTEND:20171122T090000Z
SUMMARY:Helen Gauchat Artist Talk
END:VEVENT
END:VCALENDAR
