BEGIN:VCALENDAR
VERSION:2.0
PRODID:-//Squarespace Inc/Squarespace 6//v6//EN
BEGIN:VEVENT
UID:59fd00214192021a5408b2d5@squarespace.com
DTSTAMP:20171111T002341Z
DTSTART:20171103T230000Z
DTEND:20171210T030000Z
SUMMARY:Grassy Woodlands: Carolyn Young. Exhibition @ Tamworth Regional Gal
 lery
GEO:-31.09376;150.93355
LOCATION:Tamworth Regional Gallery\, 466 Peel Street\, Tamworth\, NSW\, 234
 0\, Australia
END:VEVENT
END:VCALENDAR
