BEGIN:VCALENDAR
VERSION:2.0
PRODID:-//Squarespace Inc/Squarespace 6//v6//EN
BEGIN:VEVENT
UID:5a06431e652deab98d11138a@squarespace.com
DTSTAMP:20171111T002750Z
DTSTART:20171202T000000Z
DTEND:20171202T020000Z
SUMMARY:Kokedama Making Workshop with A Dash of Green
END:VEVENT
END:VCALENDAR
