BEGIN:VCALENDAR
VERSION:2.0
PRODID:-//Squarespace Inc/Squarespace 6//v6//EN
BEGIN:VEVENT
UID:5a38e20a9140b7872742fe0c@squarespace.com
DTSTAMP:20171219T100228Z
DTSTART:20171224T030000Z
DTEND:20180117T230000Z
SUMMARY:Christmas Break
END:VEVENT
END:VCALENDAR
