BEGIN:VCALENDAR
VERSION:2.0
PRODID:-//Squarespace Inc/Squarespace 6//v6//EN
BEGIN:VEVENT
UID:5a18c503ec212d9bd3c0cc9a@squarespace.com
DTSTAMP:20171201T034612Z
DTSTART:20171207T070000Z
DTEND:20171207T090000Z
SUMMARY:Exhibition Opening: Same But Different
END:VEVENT
END:VCALENDAR
