BEGIN:VCALENDAR
VERSION:2.0
PRODID:-//Squarespace Inc/Squarespace 6//v6//EN
BEGIN:VEVENT
UID:5a597a3908522942afeaac79@squarespace.com
DTSTAMP:20180113T035754Z
DTSTART:20180125T070000Z
DTEND:20180125T090000Z
SUMMARY:Liz Priestley: Waterways and Wonderments
END:VEVENT
END:VCALENDAR
