BEGIN:VCALENDAR
VERSION:2.0
PRODID:-//Squarespace Inc/Squarespace 6//v6//EN
BEGIN:VEVENT
UID:5b9b0da40ebbe8e89b7f688d@squarespace.com
DTSTAMP:20181018T015700Z
DTSTART:20181006T050000Z
DTEND:20181006T080000Z
SUMMARY:A Shared View\, meet and greet with the artists 
END:VEVENT
END:VCALENDAR
