BEGIN:VCALENDAR
VERSION:2.0
PRODID:-//Squarespace Inc/Squarespace 6//v6//EN
BEGIN:VEVENT
UID:5bc95700e2c483a103ce4059@squarespace.com
DTSTAMP:20181019T040515Z
DTSTART:20181110T040000Z
DTEND:20181110T060000Z
SUMMARY:Exhibition Opening\, From Mountains to the Plains
GEO:-31.080803;150.942529
LOCATION:Weswal Gallery\, 192 Brisbane Street\, Tamworth NSW\, Australia
END:VEVENT
END:VCALENDAR
