BEGIN:VCALENDAR
VERSION:2.0
PRODID:-//Squarespace Inc/Squarespace 6//v6//EN
BEGIN:VEVENT
UID:5b9b2f42758d46874be21d75@squarespace.com
DTSTAMP:20180914T040901Z
DTSTART:20181123T233000Z
DTEND:20181124T013000Z
SUMMARY:Kokedama Making Workshop
END:VEVENT
END:VCALENDAR
