BEGIN:VCALENDAR
VERSION:2.0
PRODID:-//Squarespace Inc/Squarespace 6//v6//EN
BEGIN:VEVENT
UID:5c00b36e6d2a73cce5c89bec@squarespace.com
DTSTAMP:20181130T051213Z
DTSTART:20181130T040000Z
DTEND:20181221T040000Z
SUMMARY:Win a Bounty of Goodies from Australian Designers
END:VEVENT
END:VCALENDAR
