BEGIN:VCALENDAR
VERSION:2.0
PRODID:-//Squarespace Inc/Squarespace 6//v6//EN
BEGIN:VEVENT
UID:5a86666ae2c48398a10f05ac@squarespace.com
DTSTAMP:20180216T050617Z
DTSTART:20180310T040000Z
DTEND:20180310T060000Z
SUMMARY:Exhibition Opening Anna Henderson: Artist's Story
END:VEVENT
END:VCALENDAR
