BEGIN:VCALENDAR
VERSION:2.0
PRODID:-//Squarespace Inc/Squarespace 6//v6//EN
BEGIN:VEVENT
UID:5a8662889140b70db7746939@squarespace.com
DTSTAMP:20180216T050431Z
DTSTART:20180310T040000Z
DTEND:20180310T060000Z
SUMMARY:Exhibition Opening Rhett Brewer: Fluidity
END:VEVENT
END:VCALENDAR
