BEGIN:VCALENDAR
VERSION:2.0
PRODID:-//Squarespace Inc/Squarespace 6//v6//EN
BEGIN:VEVENT
UID:5a8e1609e2c483dd8bfe4f5f@squarespace.com
DTSTAMP:20180222T010927Z
DTSTART:20180302T070000Z
DTEND:20180527T040000Z
SUMMARY:Debra Dawes: Measure (ii) showing @ Wollongong Gallery
GEO:-34.426636;150.897193
LOCATION:Wollongong Art Gallery\, Cnr Kembla & Burelli Streets\, Wollongong 
 NSW
END:VEVENT
END:VCALENDAR
