BEGIN:VCALENDAR
VERSION:2.0
PRODID:-//Squarespace Inc/Squarespace 6//v6//EN
BEGIN:VEVENT
UID:5ab3056baa4a99a08aff83dd@squarespace.com
DTSTAMP:20180322T013037Z
DTSTART:20180329T230000Z
DTEND:20180402T040000Z
SUMMARY:Easter Long Weekend Opening Hours
END:VEVENT
END:VCALENDAR
