BEGIN:VCALENDAR
VERSION:2.0
PRODID:-//Squarespace Inc/Squarespace 6//v6//EN
BEGIN:VEVENT
UID:5acee0f01ae6cf77137ac4b7@squarespace.com
DTSTAMP:20180412T043256Z
DTSTART:20180413T074500Z
DTEND:20180413T103000Z
SUMMARY:ADFAS: The Ballet Russes
GEO:-31.088454;150.935644
LOCATION:Passchendale Room\, Tamworth Town Hall\, Fitzroy Street\, Tamworth
 \, NSW\, 2340\, Australia
END:VEVENT
END:VCALENDAR
