BEGIN:VCALENDAR
VERSION:2.0
PRODID:-//Squarespace Inc/Squarespace 6//v6//EN
BEGIN:VEVENT
UID:5aab49628a922d9bbb0dc341@squarespace.com
DTSTAMP:20180412T044333Z
DTSTART:20180421T050000Z
DTEND:20180421T070000Z
SUMMARY:Exhibition Opening Elouise Roberts: Wandering New England
GEO:-31.080806;150.942543
LOCATION:Weswal Gallery\, 192 Brisbane Street\, East Tamworth\, NSW\, 2340\
 , Australia
END:VEVENT
END:VCALENDAR
