BEGIN:VCALENDAR
VERSION:2.0
PRODID:-//Squarespace Inc/Squarespace 6//v6//EN
BEGIN:VEVENT
UID:5aab49f1352f5397b60d4bfd@squarespace.com
DTSTAMP:20180412T044347Z
DTSTART:20180421T050000Z
DTEND:20180421T070000Z
SUMMARY:Exhibition Opening Gwen Robson: Foliage
GEO:-31.080803;150.942529
LOCATION:Weswal Gallery\, 192 Brisbane Street\, East Tamworth\, NSW\, 2340\
 , Australia
END:VEVENT
END:VCALENDAR
