BEGIN:VCALENDAR
VERSION:2.0
PRODID:-//Squarespace Inc/Squarespace 6//v6//EN
BEGIN:VEVENT
UID:5acee1d66d2a73de6783834d@squarespace.com
DTSTAMP:20180412T044140Z
DTSTART:20180511T074500Z
DTEND:20180511T103000Z
SUMMARY:ADFAS: Les Parisiennes
GEO:-31.080806;150.942543
LOCATION:Passchendaele Room\, Tamworth Town Hall\, Fitzroy Street\, Tamwort
 h\, NSW\, 2340\, Australia
END:VEVENT
END:VCALENDAR
