BEGIN:VCALENDAR
VERSION:2.0
PRODID:-//Squarespace Inc/Squarespace 6//v6//EN
BEGIN:VEVENT
UID:5ae2a68188251b99ffd0a970@squarespace.com
DTSTAMP:20180427T044729Z
DTSTART:20180517T080000Z
DTEND:20180517T100000Z
SUMMARY:Exhibition Openings May 2018
END:VEVENT
END:VCALENDAR
