BEGIN:VCALENDAR
VERSION:2.0
PRODID:-//Squarespace Inc/Squarespace 6//v6//EN
BEGIN:VEVENT
UID:5b18b38f2b6a28f91fa89c80@squarespace.com
DTSTAMP:20180607T042530Z
DTSTART:20180615T080000Z
DTEND:20180812T040000Z
SUMMARY:Michelle Hungerford exhibiting at Tamworth Regional Gallery
GEO:-31.093785;150.933507
LOCATION:Tamworth Regional Gallery\, 466 Peel Street\, Tamworth\, NSW\, 234
 0\, Australia
END:VEVENT
END:VCALENDAR
