BEGIN:VCALENDAR
VERSION:2.0
PRODID:-//Squarespace Inc/Squarespace 6//v6//EN
BEGIN:VEVENT
UID:5aebdce21ae6cff5ed811000@squarespace.com
DTSTAMP:20180525T041041Z
DTSTART:20180622T080000Z
DTEND:20180622T100000Z
SUMMARY:Exhibition Openings June 2018
END:VEVENT
END:VCALENDAR
