BEGIN:VCALENDAR
VERSION:2.0
PRODID:-//Squarespace Inc/Squarespace 6//v6//EN
BEGIN:VEVENT
UID:5b3588846d2a73fcad14d155@squarespace.com
DTSTAMP:20180629T014021Z
DTSTART:20180728T050000Z
DTEND:20180728T070000Z
SUMMARY:Exhibition Opening for Michael Herron\,  Quiet Landmarks
GEO:-31.080963;150.942696
LOCATION:Weswal Gallery\, 192 Brisbane Street\, Tamworth NSW 2340\, Austral
 ia
END:VEVENT
END:VCALENDAR
