BEGIN:VCALENDAR
VERSION:2.0
PRODID:-//Squarespace Inc/Squarespace 6//v6//EN
BEGIN:VEVENT
UID:5b6b9ede8a922d23fb0d0889@squarespace.com
DTSTAMP:20180809T020740Z
DTSTART:20180830T080000Z
DTEND:20180830T100000Z
SUMMARY:Exhibition Opening Jan Clark & Jane-Frances Tannock
END:VEVENT
END:VCALENDAR
