BEGIN:VCALENDAR
VERSION:2.0
PRODID:-//Squarespace Inc/Squarespace 6//v6//EN
BEGIN:VEVENT
UID:5c1c78780ebbe8c9548b9239@squarespace.com
DTSTAMP:20181221T052916Z
DTSTART:20190117T070000Z
DTEND:20190117T090000Z
SUMMARY:New Year\,  New Exhibitions!
END:VEVENT
END:VCALENDAR
